BEGIN:VCALENDAR
VERSION:2.0
PRODID:-//District 36 Toastmasters - ECPv6.0.6.2//NONSGML v1.0//EN
CALSCALE:GREGORIAN
METHOD:PUBLISH
X-ORIGINAL-URL:https://district36.org
X-WR-CALDESC:Events for District 36 Toastmasters
REFRESH-INTERVAL;VALUE=DURATION:PT1H
X-Robots-Tag:noindex
X-PUBLISHED-TTL:PT1H
BEGIN:VTIMEZONE
TZID:UTC
BEGIN:STANDARD
TZOFFSETFROM:+0000
TZOFFSETTO:+0000
TZNAME:UTC
DTSTART:20210101T000000
END:STANDARD
END:VTIMEZONE
BEGIN:VEVENT
DTSTART;TZID=UTC:20210729T183000
DTEND;TZID=UTC:20210729T203000
DTSTAMP:20260425T130238
CREATED:20210713T163747Z
LAST-MODIFIED:20210713T163747Z
UID:1029-1627583400-1627590600@district36.org
SUMMARY:TLI Summer Session #S5
DESCRIPTION:TLI Summer Session #S5 \nThursday\, July 29\, 2021 \nVirtual Training 6:30 PM to 8:30 PM \nCore Officer Training | Vice President Membership \nLog In Time for Core Officer Training: 6:00 PM \nSponsored by District 36 \nClick HERE to register.
URL:https://district36.org/event/tli-summer-session-s5/
END:VEVENT
BEGIN:VEVENT
DTSTART;TZID=UTC:20210731T090000
DTEND;TZID=UTC:20210731T110000
DTSTAMP:20260425T130238
CREATED:20210713T163953Z
LAST-MODIFIED:20210713T163953Z
UID:1034-1627722000-1627729200@district36.org
SUMMARY:TLI Summer Session #S6
DESCRIPTION:TLI Summer Session #S6 \nSaturday\, July 31\, 2021 \nVirtual Training 9:00 AM to 11:00 AM \nCore Officer Training | Treasurer  \nLog In Time for Core Officer Training: 8:30 AM \nSponsored by District 36 \nClick HERE  to register.
URL:https://district36.org/event/tli-summer-session-s6-2/
END:VEVENT
BEGIN:VEVENT
DTSTART;TZID=UTC:20210815T140000
DTEND;TZID=UTC:20210815T180000
DTSTAMP:20260425T130238
CREATED:20210713T163826Z
LAST-MODIFIED:20210713T163905Z
UID:1031-1629036000-1629050400@district36.org
SUMMARY:TLI Summer Session #S7
DESCRIPTION:TLI Summer Session #S7 \nSunday\, Aug 15\, 2021 \nVirtual Training 2:00 PM to 6:00 PM \nCore Officer Training | Electives \nLog In Time for Core Officer Training: 1:30 PM \nSponsored by District 36 \nClick  HERE to register.
URL:https://district36.org/event/tli-summer-session-s6/
END:VEVENT
END:VCALENDAR